BEGIN:VCALENDAR
VERSION:2.0
PRODID:-//FXB Center//NONSGML v1.0//EN
CALSCALE:GREGORIAN
METHOD:PUBLISH
BEGIN:VEVENT
UID:17533-0
SUMMARY:One year later: assessing the scale of mortality in Gaza
DTSTART:20241023T120000Z
DTEND:20241023T133000Z
DTSTAMP:20241016T170535Z
LAST-MODIFIED:20250808T155034Z
SEQUENCE:0
DESCRIPTION:\nWebinar Recording\n\n\n\nDate and Time: Wednesday\, October 23\, 2024 | 12:00pm – 1:30pm EDT | 7:00pm – 8:30pm EEST\n\n\n\nLocation: Zoom – Registration required\n\n\n\nJoin the Palestine Program for Health and Human Rights for a discussion about the scale of mortality in Gaza over the past year through direct and indirect deaths with Les Roberts\, an expert in field measurement of mortality in crises\, and Zeina Jamaluddine\, a nutritionist and epidemiologist at the London School of Hygiene and Tropical Medicine focusing on health improvement of women and children especially those affected by conflict in the Middle East and North Africa region.\n\n\n\nThis webinar is co-sponsored by the Religion\, Conflict\, and Peace Initiative at the Harvard Divinity School\, the Carr Center for Human Rights Policy at the Harvard Kennedy School\, and the Center for Middle Eastern Studies at Harvard University.\n\n\n\n\n\n\n\n\n\n\n\n\n\n\n\n\n\n\n\n\n\n\n\n\n\n\n\n\n\n\n\n\n\n\n\n\n\n\n\nSpeakers’ remarks are based on their own scholarship and experience. As such\, they speak for themselves\, not for Harvard University.\n
END:VEVENT
END:VCALENDAR