BEGIN:VCALENDAR
VERSION:2.0
PRODID:-//FXB Center//NONSGML v1.0//EN
CALSCALE:GREGORIAN
METHOD:PUBLISH
BEGIN:VEVENT
UID:20355-0
SUMMARY:Takeaways from COP27: The Physician Perspective
DTSTART:20221122T130000Z
DTEND:20221122T140000Z
DTSTAMP:20221110T202941Z
LAST-MODIFIED:20250808T155119Z
SEQUENCE:0
DESCRIPTION:\n\n\n\n\nEvent Recording\n\n\n\nJoin a panel discussion on the key takeaways for climate and health from COP27\, the annual UN Climate Conference\, with our Climate Change and Human Health Fellows who were on the ground in Sharm El Sheikh. This virtual event is co-hosted by the François-Xavier Bagnoud Center for Health and Human Rights and the Center for Climate\, Health\, and the Global Environment at Harvard T.H. Chan School of Public Health (Harvard Chan C-CHANGE).\n\n\n\nPanelists:\n\n\n\n\n\nDr. Caleb Dresser\, MD\, MPH\, FXB Climate Change & Human Health Fellow and Emergency Medicine physician at Beth Israel Deaconess Medical Center\n\n\nDr. Kimberly Humphrey\, MBBS\, MPH\, FXB Climate Change & Human Health Fellow and Emergency Medicine physician\n\n\nDr. Tess Wiskel\, MD\, FXB Climate Change & Human Health Fellow and Emergency Medicine physician at Beth Israel Deaconess Medical Center\n\n\n\n\n\nModerator:\n\n\n\n\n\nDr. Aaron Bernstein\, MD\, MPH\, Interim Director of the Center for Climate\, Health\, and the Global Environment at Harvard T.H. Chan School of Public Health\n\n\n\n\n\n\n\n\n\nThe conversation will be followed by a brief Q&A session.\n
END:VEVENT
END:VCALENDAR